BEGIN:VCALENDAR
VERSION:2.0
PRODID:-//E-DATA - ECPv6.15.20//NONSGML v1.0//EN
CALSCALE:GREGORIAN
METHOD:PUBLISH
X-ORIGINAL-URL:https://e-data.ai
X-WR-CALDESC:Events for E-DATA
REFRESH-INTERVAL;VALUE=DURATION:PT1H
X-Robots-Tag:noindex
X-PUBLISHED-TTL:PT1H
BEGIN:VTIMEZONE
TZID:UTC
BEGIN:STANDARD
TZOFFSETFROM:+0000
TZOFFSETTO:+0000
TZNAME:UTC
DTSTART:20250101T000000
END:STANDARD
END:VTIMEZONE
BEGIN:VEVENT
DTSTART;TZID=UTC:20261215T100000
DTEND;TZID=UTC:20261215T123000
DTSTAMP:20260421T173828
CREATED:20260212T121046Z
LAST-MODIFIED:20260421T134203Z
UID:26516-1797328800-1797337800@e-data.ai
SUMMARY:E-DATA Positive Carbon Reduction - Enniskillen
DESCRIPTION:Positive Carbon Reduction Workshop \n\n\n\nWith carbon emissions targets taking centre stage globally\, decarbonisation is now a core driver of efficiency\, competitiveness\, and resilience for SMEs. The Positive Carbon Reduction Workshop gives businesses a practical\, data‑driven introduction to cutting emissions while strengthening performance. \n\n\n\nWhy Join? \n\n\n\nSMEs taking proactive steps to reduce carbon emissions benefit from: \n\n\n\n\nLower energy and resource costs\n\n\n\nBetter access to contracts and supply chains\n\n\n\nReduced exposure to rising prices and regulation\n\n\n\nStronger reputation and customer trust\n\n\n\n\nWhat You’ll Learn \n\n\n\nThis focused\, hands‑on session will help you: \n\n\n\n\nUnderstand your key carbon and cost drivers\n\n\n\nIdentify simple\, high‑impact actions you can take immediately\n\n\n\nUse data to make smarter sustainability decisions\n\n\n\nAccess toolkits\, guidance on funding\, and expert support\n\n\n\n\nYou’ll leave with clarity\, confidence\, and a practical next step
URL:https://e-data.ai/event/e-data-sustainability-insights-enniskillen/
LOCATION:TBC
CATEGORIES:Sustainable NI
END:VEVENT
END:VCALENDAR